BEGIN:VCALENDAR
VERSION:2.0
PRODID:spatie/icalendar-generator
DESCRIPTION:Wydarzenia z Patrycja Zielińska
X-WR-CALDESC:Wydarzenia z Patrycja Zielińska
REFRESH-INTERVAL;VALUE=DURATION:PT1440M
X-PUBLISHED-TTL:PT1440M
BEGIN:VTIMEZONE
TZID:Etc/GMT+0
BEGIN:STANDARD
DTSTART:20210812T083000Z
TZOFFSETFROM:+0000
TZOFFSETTO:+0000
END:STANDARD
END:VTIMEZONE
BEGIN:VTIMEZONE
TZID:UTC
BEGIN:STANDARD
DTSTART:20250726T174525Z
TZOFFSETFROM:+0000
TZOFFSETTO:+0000
END:STANDARD
END:VTIMEZONE
BEGIN:VEVENT
UID:175-183
DTSTAMP:20260422T174525Z
SUMMARY:KURS LASH EXPERT
LOCATION:
ORGANIZER;CN=Patrycja Zielińska:MAILTO:szkolenia@patrycjazielinska.pl
DTSTART;TZID=Etc/GMT+0:20220509T083000
DTEND;TZID=Etc/GMT+0:20220513T093000
X-ALT-DESC;FMTTYPE=TEXT/HTML:
CATEGORIES:General
URL;VALUE=URI:https://www.patrycjazielinska.pl/kalendarz/?mc_id=175&#038;vc
 al=175
END:VEVENT
END:VCALENDAR