BEGIN:VCALENDAR
VERSION:2.0
PRODID:spatie/icalendar-generator
DESCRIPTION:Wydarzenia z Patrycja Zielińska
X-WR-CALDESC:Wydarzenia z Patrycja Zielińska
REFRESH-INTERVAL;VALUE=DURATION:PT1440M
X-PUBLISHED-TTL:PT1440M
BEGIN:VTIMEZONE
TZID:Etc/GMT+0
BEGIN:STANDARD
DTSTART:20250705T090000Z
TZOFFSETFROM:+0000
TZOFFSETTO:+0000
END:STANDARD
END:VTIMEZONE
BEGIN:VTIMEZONE
TZID:UTC
BEGIN:STANDARD
DTSTART:20250723T205956Z
TZOFFSETFROM:+0000
TZOFFSETTO:+0000
END:STANDARD
END:VTIMEZONE
BEGIN:VEVENT
UID:1006-1009
DTSTAMP:20260419T205956Z
SUMMARY:SZKOLENIE 4D-8D
LOCATION:
ORGANIZER;CN=Patrycja Zielińska:MAILTO:szkolenia@patrycjazielinska.pl
DTSTART;TZID=Etc/GMT+0:20260401T090000
DTEND;TZID=Etc/GMT+0:20260401T100000
X-ALT-DESC;FMTTYPE=TEXT/HTML:
CATEGORIES:General
URL;VALUE=URI:https://www.patrycjazielinska.pl/kalendarz/?mc_id=1006&#038;v
 cal=1006
END:VEVENT
END:VCALENDAR