BEGIN:VCALENDAR
VERSION:2.0
PRODID:spatie/icalendar-generator
DESCRIPTION:Wydarzenia z Patrycja Zielińska
X-WR-CALDESC:Wydarzenia z Patrycja Zielińska
REFRESH-INTERVAL;VALUE=DURATION:PT1440M
X-PUBLISHED-TTL:PT1440M
BEGIN:VTIMEZONE
TZID:Etc/GMT+0
BEGIN:STANDARD
DTSTART:20250703T090000Z
TZOFFSETFROM:+0000
TZOFFSETTO:+0000
END:STANDARD
END:VTIMEZONE
BEGIN:VTIMEZONE
TZID:UTC
BEGIN:STANDARD
DTSTART:20250728T082645Z
TZOFFSETFROM:+0000
TZOFFSETTO:+0000
END:STANDARD
END:VTIMEZONE
BEGIN:VEVENT
UID:1003-1006
DTSTAMP:20260424T082645Z
SUMMARY:KURS LASH EXPERT
LOCATION:
ORGANIZER;CN=Patrycja Zielińska:MAILTO:szkolenia@patrycjazielinska.pl
DTSTART;TZID=Etc/GMT+0:20260330T090000
DTEND;TZID=Etc/GMT+0:20260403T100000
X-ALT-DESC;FMTTYPE=TEXT/HTML:
CATEGORIES:General
URL;VALUE=URI:https://www.patrycjazielinska.pl/kalendarz/?mc_id=1003&#038;v
 cal=1003
END:VEVENT
END:VCALENDAR